BEGIN:VCALENDAR
METHOD:PUBLISH
PRODID:-//github.com/rianjs/ical.net//NONSGML ical.net 4.0//EN
VERSION:2.0
X-WR-CALNAME:Eastlake XC and Track & Field
BEGIN:VEVENT
CREATED:20260308T165930
DESCRIPTION:Meet at Redmond by 3pm\, unless told otherwise by Event coach.
DTEND:20260402T030000Z
DTSTAMP:20260423T143301Z
DTSTART:20260401T220000Z
LAST-MODIFIED:20260308T165930
LOCATION:Redmond HS
SEQUENCE:0
STATUS:CONFIRMED
SUMMARY:Meet @ Redmond
TRANSP:TRANSPARENT
UID:145405@ourschoolpages.com
END:VEVENT
END:VCALENDAR
