BEGIN:VCALENDAR
METHOD:PUBLISH
PRODID:-//github.com/rianjs/ical.net//NONSGML ical.net 4.0//EN
VERSION:2.0
X-WR-CALNAME:Eastlake XC and Track & Field
BEGIN:VEVENT
CREATED:20260315T124207
DESCRIPTION:Oregon Relays Track and Field Invite\n\nInvited athletes will 
 be contacted by Coach Troy and your event coach. Approx 30-35 athletes wi
 ll attend. \n\nBus leaves 1PM on Thursday and returns around midnight Sat
 urday night.
DTEND:20260405T063000Z
DTSTAMP:20260423T160544Z
DTSTART:20260402T200000Z
LAST-MODIFIED:20260315T124207
LOCATION:Hayward Field - Eugene\, OR
SEQUENCE:0
STATUS:CONFIRMED
SUMMARY:Oregon Relays (Invite Only)
TRANSP:TRANSPARENT
UID:145421@ourschoolpages.com
END:VEVENT
END:VCALENDAR
