BEGIN:VCALENDAR
METHOD:PUBLISH
PRODID:-//github.com/rianjs/ical.net//NONSGML ical.net 4.0//EN
VERSION:2.0
X-WR-CALNAME:Eastlake XC and Track & Field
BEGIN:VEVENT
CREATED:20260315T124231
DTEND:20260404T004500Z
DTSTAMP:20260423T143503Z
DTSTART:20260402T224500Z
LAST-MODIFIED:20260315T124231
LOCATION:Eastlake Track
SEQUENCE:0
STATUS:CONFIRMED
SUMMARY:T&F Practice
TRANSP:TRANSPARENT
UID:145422@ourschoolpages.com
END:VEVENT
END:VCALENDAR
