BEGIN:VCALENDAR
METHOD:PUBLISH
PRODID:-//github.com/rianjs/ical.net//NONSGML ical.net 4.0//EN
VERSION:2.0
X-WR-CALNAME:Eastlake XC and Track & Field
BEGIN:VEVENT
CREATED:20260329T153543
DESCRIPTION:Wear your EHS jacket and team tshirt
DTEND:20260330T233000Z
DTSTAMP:20260423T143301Z
DTSTART:20260330T224500Z
LAST-MODIFIED:20260329T153543
LOCATION:EHS Track
SEQUENCE:0
STATUS:CONFIRMED
SUMMARY:Team Picture Day
TRANSP:TRANSPARENT
UID:145473@ourschoolpages.com
END:VEVENT
END:VCALENDAR
