BEGIN:VCALENDAR
METHOD:PUBLISH
PRODID:-//github.com/rianjs/ical.net//NONSGML ical.net 4.0//EN
VERSION:2.0
X-WR-CALNAME:Eastlake XC and Track & Field
BEGIN:VEVENT
CREATED:20260329T153650
DESCRIPTION:Senior night! Athletes expected to stay until the end of the m
 eet for to honor the seniors. \n\nSenior ceremony is after the meet is fi
 nished around 7:30pm and will last approx 30mins.
DTEND:20260409T030000Z
DTSTAMP:20260423T143154Z
DTSTART:20260408T224500Z
LAST-MODIFIED:20260405T195326
LOCATION:EHS Track
SEQUENCE:0
STATUS:CONFIRMED
SUMMARY:(Senior Night) Home Meet vs Juanita
TRANSP:TRANSPARENT
UID:145474@ourschoolpages.com
END:VEVENT
END:VCALENDAR
