BEGIN:VCALENDAR
METHOD:PUBLISH
PRODID:-//github.com/rianjs/ical.net//NONSGML ical.net 4.0//EN
VERSION:2.0
X-WR-CALNAME:Eastlake XC and Track & Field
BEGIN:VEVENT
CREATED:20260329T153713
DTEND:20260408T010000Z
DTSTAMP:20260423T142916Z
DTSTART:20260406T224500Z
LAST-MODIFIED:20260329T153713
LOCATION:EHS Track
SEQUENCE:0
STATUS:CONFIRMED
SUMMARY:T&F Practice
TRANSP:TRANSPARENT
UID:145475@ourschoolpages.com
END:VEVENT
END:VCALENDAR
