BEGIN:VCALENDAR
METHOD:PUBLISH
PRODID:-//github.com/rianjs/ical.net//NONSGML ical.net 4.0//EN
VERSION:2.0
X-WR-CALNAME:Eastlake XC and Track & Field
BEGIN:VEVENT
CREATED:20260329T153728
DTEND:20260410T010000Z
DTSTAMP:20260423T142910Z
DTSTART:20260409T224500Z
LAST-MODIFIED:20260329T153728
LOCATION:EHS Track
SEQUENCE:0
STATUS:CONFIRMED
SUMMARY:T&F Practice
TRANSP:TRANSPARENT
UID:145476@ourschoolpages.com
END:VEVENT
END:VCALENDAR
