BEGIN:VCALENDAR
METHOD:PUBLISH
PRODID:-//github.com/rianjs/ical.net//NONSGML ical.net 4.0//EN
VERSION:2.0
X-WR-CALNAME:Eastlake XC and Track & Field
BEGIN:VEVENT
CREATED:20260329T153739
DTEND:20260411T004500Z
DTSTAMP:20260423T142743Z
DTSTART:20260410T224500Z
LAST-MODIFIED:20260329T153739
LOCATION:EHS Track
SEQUENCE:0
STATUS:CONFIRMED
SUMMARY:T&F Practice
TRANSP:TRANSPARENT
UID:145477@ourschoolpages.com
END:VEVENT
END:VCALENDAR
