BEGIN:VCALENDAR
METHOD:PUBLISH
PRODID:-//github.com/rianjs/ical.net//NONSGML ical.net 4.0//EN
VERSION:2.0
X-WR-CALNAME:Eastlake XC and Track & Field
BEGIN:VEVENT
CREATED:20260329T153812
DESCRIPTION:Talk with your event coach about any practice days during spri
 ng break
DTEND:20260418T010000Z
DTSTAMP:20260423T143358Z
DTSTART:20260413T220000Z
LAST-MODIFIED:20260329T153812
LOCATION:EHS Track
SEQUENCE:0
STATUS:CONFIRMED
SUMMARY:Spring Break Practice
TRANSP:TRANSPARENT
UID:145478@ourschoolpages.com
END:VEVENT
END:VCALENDAR
