BEGIN:VCALENDAR
METHOD:PUBLISH
PRODID:-//github.com/rianjs/ical.net//NONSGML ical.net 4.0//EN
VERSION:2.0
X-WR-CALNAME:Eastlake XC and Track & Field
BEGIN:VEVENT
CREATED:20260419T202013
DTEND:20260425T010000Z
DTSTAMP:20260420T120057Z
DTSTART:20260420T224500Z
LAST-MODIFIED:20260419T202013
LOCATION:EHS Track
SEQUENCE:0
STATUS:CONFIRMED
SUMMARY:Practice
TRANSP:TRANSPARENT
UID:145548@ourschoolpages.com
END:VEVENT
END:VCALENDAR
