BEGIN:VCALENDAR
METHOD:PUBLISH
PRODID:-//github.com/rianjs/ical.net//NONSGML ical.net 4.0//EN
VERSION:2.0
X-WR-CALNAME:Eastlake XC and Track & Field
BEGIN:VEVENT
CREATED:20260419T202120
DESCRIPTION:Athletes must ride bus. \nTop 3 in each event...coaches will l
 et athletes know by Wednesday who is competing. \nBuses depart at 9:45 an
 d return around 6pm.
DTEND:20260426T010000Z
DTSTAMP:20260420T120231Z
DTSTART:20260425T163000Z
LAST-MODIFIED:20260419T202120
LOCATION:Arlington HS
SEQUENCE:0
STATUS:CONFIRMED
SUMMARY:Big 5 Invite
TRANSP:TRANSPARENT
UID:145549@ourschoolpages.com
END:VEVENT
END:VCALENDAR
