BEGIN:VCALENDAR
METHOD:PUBLISH
PRODID:-//github.com/rianjs/ical.net//NONSGML ical.net 4.0//EN
VERSION:2.0
X-WR-CALNAME:Eastlake XC and Track & Field
BEGIN:VEVENT
CREATED:20260419T202328
DESCRIPTION:Athletes arrive at Skyline by 3PM\, unless told otherwise by e
 vent coach. Athletes expected to stay through the end of the meet.
DTEND:20260430T030000Z
DTSTAMP:20260420T115556Z
DTSTART:20260429T220000Z
LAST-MODIFIED:20260419T202328
LOCATION:Skyline HS
SEQUENCE:0
STATUS:CONFIRMED
SUMMARY:Meet @ Skyline
TRANSP:TRANSPARENT
UID:145551@ourschoolpages.com
END:VEVENT
END:VCALENDAR
