BEGIN:VCALENDAR
METHOD:PUBLISH
PRODID:-//github.com/rianjs/ical.net//NONSGML ical.net 4.0//EN
VERSION:2.0
X-WR-CALNAME:Eastlake XC and Track & Field
BEGIN:VEVENT
CREATED:20260419T202502
DESCRIPTION:Invite for approx top 2-3 athletes in each event. \n\nNo buses
 . \n\nEvent coaches will let athletes know who is competing by Tuesday an
 d estimated event time.
DTEND:20260503T010000Z
DTSTAMP:20260420T115556Z
DTSTART:20260502T160000Z
LAST-MODIFIED:20260419T202528
LOCATION:Puyallup HS
SEQUENCE:0
STATUS:CONFIRMED
SUMMARY:South Sound Invite
TRANSP:TRANSPARENT
UID:145553@ourschoolpages.com
END:VEVENT
END:VCALENDAR
